BEGIN:VCALENDAR
VERSION:2.0
PRODID:-//Mottram St. Andrew Parish Council - ECPv6.15.18//NONSGML v1.0//EN
CALSCALE:GREGORIAN
METHOD:PUBLISH
X-WR-CALNAME:Mottram St. Andrew Parish Council
X-ORIGINAL-URL:https://mottramstandrewpc.org.uk
X-WR-CALDESC:Events for Mottram St. Andrew Parish Council
REFRESH-INTERVAL;VALUE=DURATION:PT1H
X-Robots-Tag:noindex
X-PUBLISHED-TTL:PT1H
BEGIN:VTIMEZONE
TZID:Europe/London
BEGIN:DAYLIGHT
TZOFFSETFROM:+0000
TZOFFSETTO:+0100
TZNAME:BST
DTSTART:20190331T010000
END:DAYLIGHT
BEGIN:STANDARD
TZOFFSETFROM:+0100
TZOFFSETTO:+0000
TZNAME:GMT
DTSTART:20191027T010000
END:STANDARD
BEGIN:DAYLIGHT
TZOFFSETFROM:+0000
TZOFFSETTO:+0100
TZNAME:BST
DTSTART:20200329T010000
END:DAYLIGHT
BEGIN:STANDARD
TZOFFSETFROM:+0100
TZOFFSETTO:+0000
TZNAME:GMT
DTSTART:20201025T010000
END:STANDARD
BEGIN:DAYLIGHT
TZOFFSETFROM:+0000
TZOFFSETTO:+0100
TZNAME:BST
DTSTART:20210328T010000
END:DAYLIGHT
BEGIN:STANDARD
TZOFFSETFROM:+0100
TZOFFSETTO:+0000
TZNAME:GMT
DTSTART:20211031T010000
END:STANDARD
BEGIN:DAYLIGHT
TZOFFSETFROM:+0000
TZOFFSETTO:+0100
TZNAME:BST
DTSTART:20220327T010000
END:DAYLIGHT
BEGIN:STANDARD
TZOFFSETFROM:+0100
TZOFFSETTO:+0000
TZNAME:GMT
DTSTART:20221030T010000
END:STANDARD
BEGIN:DAYLIGHT
TZOFFSETFROM:+0000
TZOFFSETTO:+0100
TZNAME:BST
DTSTART:20230326T010000
END:DAYLIGHT
BEGIN:STANDARD
TZOFFSETFROM:+0100
TZOFFSETTO:+0000
TZNAME:GMT
DTSTART:20231029T010000
END:STANDARD
BEGIN:DAYLIGHT
TZOFFSETFROM:+0000
TZOFFSETTO:+0100
TZNAME:BST
DTSTART:20240331T010000
END:DAYLIGHT
BEGIN:STANDARD
TZOFFSETFROM:+0100
TZOFFSETTO:+0000
TZNAME:GMT
DTSTART:20241027T010000
END:STANDARD
BEGIN:DAYLIGHT
TZOFFSETFROM:+0000
TZOFFSETTO:+0100
TZNAME:BST
DTSTART:20250330T010000
END:DAYLIGHT
BEGIN:STANDARD
TZOFFSETFROM:+0100
TZOFFSETTO:+0000
TZNAME:GMT
DTSTART:20251026T010000
END:STANDARD
BEGIN:DAYLIGHT
TZOFFSETFROM:+0000
TZOFFSETTO:+0100
TZNAME:BST
DTSTART:20260329T010000
END:DAYLIGHT
BEGIN:STANDARD
TZOFFSETFROM:+0100
TZOFFSETTO:+0000
TZNAME:GMT
DTSTART:20261025T010000
END:STANDARD
BEGIN:DAYLIGHT
TZOFFSETFROM:+0000
TZOFFSETTO:+0100
TZNAME:BST
DTSTART:20270328T010000
END:DAYLIGHT
BEGIN:STANDARD
TZOFFSETFROM:+0100
TZOFFSETTO:+0000
TZNAME:GMT
DTSTART:20271031T010000
END:STANDARD
END:VTIMEZONE
BEGIN:VEVENT
DTSTART;TZID=Europe/London:20260316T183000
DTEND;TZID=Europe/London:20260316T183000
DTSTAMP:20260422T023047
CREATED:20260313T165659Z
LAST-MODIFIED:20260326T161805Z
UID:9864-1773685800-1773685800@mottramstandrewpc.org.uk
SUMMARY:Parish Council Meeting
DESCRIPTION:Parish Council meetings are held at the venue as advertised in the yearly schedule. Members of the public are welcome to attend – please see the agenda for details.
URL:https://mottramstandrewpc.org.uk/event/parish-council-meeting-3/
LOCATION:Methodist Chapel
CATEGORIES:Parish Council Meetings
END:VEVENT
BEGIN:VEVENT
DTSTART;TZID=Europe/London:20201116T183000
DTEND;TZID=Europe/London:20201116T183000
DTSTAMP:20260422T023047
CREATED:20201130T171556Z
LAST-MODIFIED:20201130T171556Z
UID:3063-1605551400-1605551400@mottramstandrewpc.org.uk
SUMMARY:Parish Council Meeting
DESCRIPTION:This meeting will be held online\, via Zoom. Members of the public are welcome to attend – please see the agenda for details.
URL:https://mottramstandrewpc.org.uk/event/parish-council-meeting-2/
LOCATION:Online
CATEGORIES:Parish Council Meetings
END:VEVENT
BEGIN:VEVENT
DTSTART;TZID=Europe/London:20200706T183000
DTEND;TZID=Europe/London:20200706T183000
DTSTAMP:20260422T023047
CREATED:20200630T224713Z
LAST-MODIFIED:20200630T224713Z
UID:2372-1594060200-1594060200@mottramstandrewpc.org.uk
SUMMARY:Parish Council Meeting
DESCRIPTION:This meeting will be held online\, via Zoom. Members of the public are welcome to attend – please see the agenda for details.
URL:https://mottramstandrewpc.org.uk/event/parish-council-meeting/
LOCATION:Online
CATEGORIES:Parish Council Meetings
END:VEVENT
END:VCALENDAR