BEGIN:VCALENDAR
VERSION:2.0
PRODID:-//Mottram St. Andrew Parish Council - ECPv6.15.20//NONSGML v1.0//EN
CALSCALE:GREGORIAN
METHOD:PUBLISH
X-ORIGINAL-URL:https://mottramstandrewpc.org.uk
X-WR-CALDESC:Events for Mottram St. Andrew Parish Council
REFRESH-INTERVAL;VALUE=DURATION:PT1H
X-Robots-Tag:noindex
X-PUBLISHED-TTL:PT1H
BEGIN:VTIMEZONE
TZID:Europe/London
BEGIN:DAYLIGHT
TZOFFSETFROM:+0000
TZOFFSETTO:+0100
TZNAME:BST
DTSTART:20210328T010000
END:DAYLIGHT
BEGIN:STANDARD
TZOFFSETFROM:+0100
TZOFFSETTO:+0000
TZNAME:GMT
DTSTART:20211031T010000
END:STANDARD
BEGIN:DAYLIGHT
TZOFFSETFROM:+0000
TZOFFSETTO:+0100
TZNAME:BST
DTSTART:20220327T010000
END:DAYLIGHT
BEGIN:STANDARD
TZOFFSETFROM:+0100
TZOFFSETTO:+0000
TZNAME:GMT
DTSTART:20221030T010000
END:STANDARD
BEGIN:DAYLIGHT
TZOFFSETFROM:+0000
TZOFFSETTO:+0100
TZNAME:BST
DTSTART:20230326T010000
END:DAYLIGHT
BEGIN:STANDARD
TZOFFSETFROM:+0100
TZOFFSETTO:+0000
TZNAME:GMT
DTSTART:20231029T010000
END:STANDARD
BEGIN:DAYLIGHT
TZOFFSETFROM:+0000
TZOFFSETTO:+0100
TZNAME:BST
DTSTART:20240331T010000
END:DAYLIGHT
BEGIN:STANDARD
TZOFFSETFROM:+0100
TZOFFSETTO:+0000
TZNAME:GMT
DTSTART:20241027T010000
END:STANDARD
BEGIN:DAYLIGHT
TZOFFSETFROM:+0000
TZOFFSETTO:+0100
TZNAME:BST
DTSTART:20250330T010000
END:DAYLIGHT
BEGIN:STANDARD
TZOFFSETFROM:+0100
TZOFFSETTO:+0000
TZNAME:GMT
DTSTART:20251026T010000
END:STANDARD
BEGIN:DAYLIGHT
TZOFFSETFROM:+0000
TZOFFSETTO:+0100
TZNAME:BST
DTSTART:20260329T010000
END:DAYLIGHT
BEGIN:STANDARD
TZOFFSETFROM:+0100
TZOFFSETTO:+0000
TZNAME:GMT
DTSTART:20261025T010000
END:STANDARD
BEGIN:DAYLIGHT
TZOFFSETFROM:+0000
TZOFFSETTO:+0100
TZNAME:BST
DTSTART:20270328T010000
END:DAYLIGHT
BEGIN:STANDARD
TZOFFSETFROM:+0100
TZOFFSETTO:+0000
TZNAME:GMT
DTSTART:20271031T010000
END:STANDARD
END:VTIMEZONE
BEGIN:VEVENT
DTSTART;TZID=Europe/London:20221105T180000
DTEND;TZID=Europe/London:20221105T220000
DTSTAMP:20260426T042727
CREATED:20221029T120708Z
LAST-MODIFIED:20221029T121533Z
UID:7002-1667671200-1667685600@mottramstandrewpc.org.uk
SUMMARY:Bonfire Night
DESCRIPTION:Bonfire Poster 2022
URL:https://mottramstandrewpc.org.uk/event/bonfire-night-2/
LOCATION:Mottram St. Andrew Village Hall
END:VEVENT
BEGIN:VEVENT
DTSTART;TZID=Europe/London:20221129T190000
DTEND;TZID=Europe/London:20221129T233000
DTSTAMP:20260426T042727
CREATED:20221109T204331Z
LAST-MODIFIED:20221109T204421Z
UID:7049-1669748400-1669764600@mottramstandrewpc.org.uk
SUMMARY:Fish and Chip Night
DESCRIPTION:The next Fish and Chip night will be Tuesday 29th November at 7.30pm. Cost is £12 and includes your *first drink at the bar. \nPlease contact Mick Shaw email: msavillagehall@outlook.com or Text: 07840 940774 to order yours before 8pm on Sunday 27th November or add your name to the list in the Clubroom. \nThe England vs Wales match will be shown starting at 7pm\, so no bingo this night. \n  \n*Single measures
URL:https://mottramstandrewpc.org.uk/event/fish-and-chip-night-4/
LOCATION:Mottram St. Andrew Village Hall
ORGANIZER;CN="Mottram St Andrew Village Club":MAILTO:msavillagehall@outlook.com
END:VEVENT
BEGIN:VEVENT
DTSTART;TZID=Europe/London:20221216T193000
DTEND;TZID=Europe/London:20221216T233000
DTSTAMP:20260426T042727
CREATED:20220917T191012Z
LAST-MODIFIED:20221111T195531Z
UID:6902-1671219000-1671233400@mottramstandrewpc.org.uk
SUMMARY:Elvis is in the room....Christmas Clubnight Extravaganza
DESCRIPTION:Clubnight poster 2022a \nChristmas Menu 2022
URL:https://mottramstandrewpc.org.uk/event/elvis-is-in-the-room-christmas-clubnight-extravaganza/
LOCATION:Mottram St. Andrew Village Hall
ORGANIZER;CN="Mottram St Andrew Village Club":MAILTO:msavillagehall@outlook.com
END:VEVENT
BEGIN:VEVENT
DTSTART;TZID=Europe/London:20221220T193000
DTEND;TZID=Europe/London:20221220T233000
DTSTAMP:20260426T042727
CREATED:20221110T201604Z
LAST-MODIFIED:20221110T201604Z
UID:7057-1671564600-1671579000@mottramstandrewpc.org.uk
SUMMARY:Over Alderley Band in the Clubroom
DESCRIPTION:Brass band Copy 2
URL:https://mottramstandrewpc.org.uk/event/over-alderley-band-in-the-clubroom/
LOCATION:Mottram St. Andrew Village Hall
ORGANIZER;CN="Mottram St Andrew Village Club":MAILTO:msavillagehall@outlook.com
END:VEVENT
BEGIN:VEVENT
DTSTART;TZID=Europe/London:20230324T200000
DTEND;TZID=Europe/London:20230324T230000
DTSTAMP:20260426T042727
CREATED:20230308T160729Z
LAST-MODIFIED:20230308T160729Z
UID:7455-1679688000-1679698800@mottramstandrewpc.org.uk
SUMMARY:Quiz Night 24th March
DESCRIPTION:Quiz nite poster 23
URL:https://mottramstandrewpc.org.uk/event/quiz-night-24th-march/
LOCATION:Mottram St. Andrew Village Hall
ORGANIZER;CN="Mottram St Andrew Village Club":MAILTO:msavillagehall@outlook.com
END:VEVENT
BEGIN:VEVENT
DTSTART;TZID=Europe/London:20230328T193000
DTEND;TZID=Europe/London:20230328T233000
DTSTAMP:20260426T042727
CREATED:20230308T160111Z
LAST-MODIFIED:20230308T160442Z
UID:7452-1680031800-1680046200@mottramstandrewpc.org.uk
SUMMARY:Curry Night
DESCRIPTION:Tuesday 28th March 7.30pm is the next curry night in the Village Club. Order your curry by Sunday 26th to avoid disappointment\, £12 each\, \nand a choice of Medium Chicken or Vegetarian curries. \nBook yours by email: msavillagehall@outlook.com or text: 07840 940774 giving names of guests and their choices of curry or add your names to the list in the Clubroom \n  \n 
URL:https://mottramstandrewpc.org.uk/event/curry-night-3/
LOCATION:Mottram St. Andrew Village Hall
ORGANIZER;CN="Mottram St Andrew Village Club":MAILTO:msavillagehall@outlook.com
END:VEVENT
BEGIN:VEVENT
DTSTART;TZID=Europe/London:20231015T150000
DTEND;TZID=Europe/London:20231015T170000
DTSTAMP:20260426T042727
CREATED:20231003T183343Z
LAST-MODIFIED:20231004T194539Z
UID:8126-1697382000-1697389200@mottramstandrewpc.org.uk
SUMMARY:Tea Party
DESCRIPTION:Girl Guides Oct23 \nEmail address: \n1stmsaguides@gmail.com \n 
URL:https://mottramstandrewpc.org.uk/event/tea-party/
LOCATION:Mottram St. Andrew Village Hall
END:VEVENT
BEGIN:VEVENT
DTSTART;TZID=Europe/London:20231031T193000
DTEND;TZID=Europe/London:20231031T230000
DTSTAMP:20260426T042727
CREATED:20231014T140430Z
LAST-MODIFIED:20231024T160238Z
UID:8158-1698780600-1698793200@mottramstandrewpc.org.uk
SUMMARY:Italian Night
DESCRIPTION:Tuesday 31st October at 7.30pm for 8pm start. On offer we have anti pasti followed by Lasagne (Beef or Vegetarian) accompanied with Garlic Bread and a Green Salad\, all for only £12pp \nPlease enter your names on the list in the clubroom or email msavillagehall@outlook.com with your choice and the names of yourself and any other guests you are booking for.
URL:https://mottramstandrewpc.org.uk/event/italian-night-2/
LOCATION:Mottram St. Andrew Village Hall
ORGANIZER;CN="Mottram St Andrew Village Club":MAILTO:msavillagehall@outlook.com
END:VEVENT
BEGIN:VEVENT
DTSTART;TZID=Europe/London:20231105T180000
DTEND;TZID=Europe/London:20231105T220000
DTSTAMP:20260426T042727
CREATED:20231002T191215Z
LAST-MODIFIED:20231024T160043Z
UID:8095-1699207200-1699221600@mottramstandrewpc.org.uk
SUMMARY:Bonfire Night
DESCRIPTION:Bonfire Poster 2023 \n  \nGet your tickets early to save money. This is a fantastic night with hot food provided by Brookhouse Farm Shop. \nIf you don’t buy a ticket in advance\, please bring cash for entry
URL:https://mottramstandrewpc.org.uk/event/bonfire-night-3/
LOCATION:Mottram St. Andrew Village Hall
ORGANIZER;CN="Mottram St Andrew Village Club":MAILTO:msavillagehall@outlook.com
END:VEVENT
BEGIN:VEVENT
DTSTART;TZID=Europe/London:20231117T193000
DTEND;TZID=Europe/London:20231117T230000
DTSTAMP:20260426T042727
CREATED:20231014T135909Z
LAST-MODIFIED:20231014T135909Z
UID:8154-1700249400-1700262000@mottramstandrewpc.org.uk
SUMMARY:Quiz Night
DESCRIPTION:quiz 4
URL:https://mottramstandrewpc.org.uk/event/quiz-night-2/
LOCATION:Mottram St. Andrew Village Hall
ORGANIZER;CN="Mottram St Andrew Village Club":MAILTO:msavillagehall@outlook.com
END:VEVENT
BEGIN:VEVENT
DTSTART;TZID=Europe/London:20231125T073000
DTEND;TZID=Europe/London:20231125T230000
DTSTAMP:20260426T042727
CREATED:20231122T200016Z
LAST-MODIFIED:20231122T200016Z
UID:8239-1700897400-1700953200@mottramstandrewpc.org.uk
SUMMARY:Sam Kelly and Jamie Francis
DESCRIPTION:Sam Kelly 2023
URL:https://mottramstandrewpc.org.uk/event/sam-kelly-and-jamie-francis/
LOCATION:Mottram St. Andrew Village Hall
ORGANIZER;CN="MusicatMottram":MAILTO:musicatmottram@gmail.com
END:VEVENT
BEGIN:VEVENT
DTSTART;TZID=Europe/London:20231128T193000
DTEND;TZID=Europe/London:20231128T230000
DTSTAMP:20260426T042727
CREATED:20231122T195259Z
LAST-MODIFIED:20231122T195259Z
UID:8237-1701199800-1701212400@mottramstandrewpc.org.uk
SUMMARY:Fish and Chip night
DESCRIPTION:Tuesday 28th November 7.30pm for 8pm start is our next Fish and Chip night. Standard portion of Fish and Chips £12\, small portion £10 or Chips and peas £6. \nPeas are included if you want\, at no additional fee. To book your meal\, email: msavillagehall@outlook.com or ad your names to the list in the clubroom\, stating your preference from the above before Sunday 26th November.
URL:https://mottramstandrewpc.org.uk/event/fish-and-chip-night-5/
LOCATION:Mottram St. Andrew Village Hall
ORGANIZER;CN="Mottram St Andrew Village Club":MAILTO:msavillagehall@outlook.com
END:VEVENT
BEGIN:VEVENT
DTSTART;TZID=Europe/London:20231215T190000
DTEND;TZID=Europe/London:20231215T233000
DTSTAMP:20260426T042727
CREATED:20231002T193226Z
LAST-MODIFIED:20231002T193226Z
UID:8102-1702666800-1702683000@mottramstandrewpc.org.uk
SUMMARY:Christmas Clubnight
DESCRIPTION:Clubnight Poster 2023 \n  \nMenu and order sheet \nBack by popular demand\, Elvis is back in the room for one night only. Make you selection of meal choice and return your form to msavillagehall@outlook.com \nYou will be sent details of how to pay and your own unique reference number
URL:https://mottramstandrewpc.org.uk/event/christmas-clubnight/
LOCATION:Mottram St. Andrew Village Hall
ORGANIZER;CN="Mottram St Andrew Village Club":MAILTO:msavillagehall@outlook.com
END:VEVENT
BEGIN:VEVENT
DTSTART;TZID=Europe/London:20260316T183000
DTEND;TZID=Europe/London:20260316T183000
DTSTAMP:20260426T042727
CREATED:20260313T165659Z
LAST-MODIFIED:20260326T161805Z
UID:9864-1773685800-1773685800@mottramstandrewpc.org.uk
SUMMARY:Parish Council Meeting
DESCRIPTION:Parish Council meetings are held at the venue as advertised in the yearly schedule. Members of the public are welcome to attend – please see the agenda for details.
URL:https://mottramstandrewpc.org.uk/event/parish-council-meeting-3/
LOCATION:Methodist Chapel
CATEGORIES:Parish Council Meetings
END:VEVENT
END:VCALENDAR