BEGIN:VCALENDAR
VERSION:2.0
PRODID:-//Mottram St. Andrew Parish Council - ECPv6.15.20//NONSGML v1.0//EN
CALSCALE:GREGORIAN
METHOD:PUBLISH
X-WR-CALNAME:Mottram St. Andrew Parish Council
X-ORIGINAL-URL:https://mottramstandrewpc.org.uk
X-WR-CALDESC:Events for Mottram St. Andrew Parish Council
REFRESH-INTERVAL;VALUE=DURATION:PT1H
X-Robots-Tag:noindex
X-PUBLISHED-TTL:PT1H
BEGIN:VTIMEZONE
TZID:Europe/London
BEGIN:DAYLIGHT
TZOFFSETFROM:+0000
TZOFFSETTO:+0100
TZNAME:BST
DTSTART:20190331T010000
END:DAYLIGHT
BEGIN:STANDARD
TZOFFSETFROM:+0100
TZOFFSETTO:+0000
TZNAME:GMT
DTSTART:20191027T010000
END:STANDARD
BEGIN:DAYLIGHT
TZOFFSETFROM:+0000
TZOFFSETTO:+0100
TZNAME:BST
DTSTART:20200329T010000
END:DAYLIGHT
BEGIN:STANDARD
TZOFFSETFROM:+0100
TZOFFSETTO:+0000
TZNAME:GMT
DTSTART:20201025T010000
END:STANDARD
BEGIN:DAYLIGHT
TZOFFSETFROM:+0000
TZOFFSETTO:+0100
TZNAME:BST
DTSTART:20210328T010000
END:DAYLIGHT
BEGIN:STANDARD
TZOFFSETFROM:+0100
TZOFFSETTO:+0000
TZNAME:GMT
DTSTART:20211031T010000
END:STANDARD
BEGIN:DAYLIGHT
TZOFFSETFROM:+0000
TZOFFSETTO:+0100
TZNAME:BST
DTSTART:20220327T010000
END:DAYLIGHT
BEGIN:STANDARD
TZOFFSETFROM:+0100
TZOFFSETTO:+0000
TZNAME:GMT
DTSTART:20221030T010000
END:STANDARD
BEGIN:DAYLIGHT
TZOFFSETFROM:+0000
TZOFFSETTO:+0100
TZNAME:BST
DTSTART:20230326T010000
END:DAYLIGHT
BEGIN:STANDARD
TZOFFSETFROM:+0100
TZOFFSETTO:+0000
TZNAME:GMT
DTSTART:20231029T010000
END:STANDARD
END:VTIMEZONE
BEGIN:VEVENT
DTSTART;TZID=Europe/London:20220329T193000
DTEND;TZID=Europe/London:20220329T233000
DTSTAMP:20260425T193047
CREATED:20220303T165015Z
LAST-MODIFIED:20220303T165015Z
UID:6078-1648582200-1648596600@mottramstandrewpc.org.uk
SUMMARY:Fish and Chip Night
DESCRIPTION:Tuesday 29th March 7.30 for 8pm is the next Fish and Chip night in the Village Club. £10 gets you your fish and chips and your first drink at the bar. Add your names to the list in the Clubroom by Sunday 27th or email msavillagehall@outlook.com with your names to book your place. Vegetarian option is Chips and Peas for £6.
URL:https://mottramstandrewpc.org.uk/event/fish-and-chip-night/
LOCATION:Mottram St. Andrew Village Hall
ORGANIZER;CN="Mottram St Andrew Village Club":MAILTO:msavillagehall@outlook.com
END:VEVENT
BEGIN:VEVENT
DTSTART;TZID=Europe/London:20220222T193000
DTEND;TZID=Europe/London:20220222T233000
DTSTAMP:20260425T193047
CREATED:20220206T173537Z
LAST-MODIFIED:20220206T173727Z
UID:5890-1645558200-1645572600@mottramstandrewpc.org.uk
SUMMARY:Curry Night Tuesday 22nd February
DESCRIPTION:Tuesday 22nd February is our next curry night. £10 gets you a mild or medium curry (or Vegetarian) and your first drink at the bar. A great night. Put your names down on the list in the Clubroom or email: msavillagehall@outlook.com before Sunday 20th February to secure your place. Doors open 7.30pm\, food served around 8pm.
URL:https://mottramstandrewpc.org.uk/event/curry-night-tuesday-22nd-february/
LOCATION:Mottram St. Andrew Village Hall
ORGANIZER;CN="Mottram St Andrew Village Club":MAILTO:msavillagehall@outlook.com
END:VEVENT
BEGIN:VEVENT
DTSTART;TZID=Europe/London:20220221T090000
DTEND;TZID=Europe/London:20220223T153000
DTSTAMP:20260425T193047
CREATED:20220206T174036Z
LAST-MODIFIED:20220206T174239Z
UID:5893-1645434000-1645630200@mottramstandrewpc.org.uk
SUMMARY:Touchline Sports Academy
DESCRIPTION:Monday 21st to Wednesday 23rd February \nTouchlineSpAcFebPoster
URL:https://mottramstandrewpc.org.uk/event/touchline-sports-academy/
LOCATION:Mottram St. Andrew Village Hall
END:VEVENT
BEGIN:VEVENT
DTSTART;TZID=Europe/London:20220219T190000
DTEND;TZID=Europe/London:20220219T230000
DTSTAMP:20260425T193047
CREATED:20220120T110836Z
LAST-MODIFIED:20220120T110836Z
UID:5731-1645297200-1645311600@mottramstandrewpc.org.uk
SUMMARY:MusicatMottram live music concert
DESCRIPTION:Tom Kitching poster Feb 2022
URL:https://mottramstandrewpc.org.uk/event/musicatmottram-live-music-concert/
LOCATION:Mottram St. Andrew Village Hall
ORGANIZER;CN="MusicatMottram":MAILTO:musicatmottram@gmail.com
END:VEVENT
BEGIN:VEVENT
DTSTART;TZID=Europe/London:20220125T193000
DTEND;TZID=Europe/London:20220125T233000
DTSTAMP:20260425T193047
CREATED:20211202T175751Z
LAST-MODIFIED:20220115T170151Z
UID:5402-1643139000-1643153400@mottramstandrewpc.org.uk
SUMMARY:Fish and Chip Night
DESCRIPTION:Tuesday 25th January will be our next Fish and Chip night. £10 each which includes your first drink. To book yours\, add your name to the list in the Clubroom\, email msavillagehall@outlook.com before 8pm on Sunday 23rd.
URL:https://mottramstandrewpc.org.uk/event/curry-night/
LOCATION:Mottram St. Andrew Village Hall
ORGANIZER;CN="Mottram St Andrew Village Club":MAILTO:msavillagehall@outlook.com
END:VEVENT
BEGIN:VEVENT
DTSTART;TZID=Europe/London:20211210T193000
DTEND;TZID=Europe/London:20211210T233000
DTSTAMP:20260425T193047
CREATED:20211120T132648Z
LAST-MODIFIED:20211120T132904Z
UID:5316-1639164600-1639179000@mottramstandrewpc.org.uk
SUMMARY:Christmas Clubnight Friday 10th December
DESCRIPTION:Clubnight poster 2021a
URL:https://mottramstandrewpc.org.uk/event/christmas-clubnight-friday-10th-december/
LOCATION:Mottram St. Andrew Village Hall
ORGANIZER;CN="Mottram St Andrew Village Club":MAILTO:msavillagehall@outlook.com
END:VEVENT
BEGIN:VEVENT
DTSTART;TZID=Europe/London:20211124T080000
DTEND;TZID=Europe/London:20211124T170000
DTSTAMP:20260425T193047
CREATED:20211124T203530Z
LAST-MODIFIED:20211124T203530Z
UID:5348-1637740800-1637773200@mottramstandrewpc.org.uk
SUMMARY:Fish and Chip Night Tuesday 30th November
DESCRIPTION:Tuesday 30th November is the next Fish and Chip night at Mottram St Andrew Village Club. £10 buys your fish and chip supper plus your first drink at the bar. Place your order by 8pm Sunday 28th November by email to msavillagehall@outlook.com or by text to Mob: 07840 940774  Doors open at 7.30pm\, food served around 8pm. It’s a great night and don’t miss the amazing bingo!
URL:https://mottramstandrewpc.org.uk/event/fish-and-chip-night-tuesday-30th-november/
END:VEVENT
BEGIN:VEVENT
DTSTART;TZID=Europe/London:20211120T190000
DTEND;TZID=Europe/London:20211120T220000
DTSTAMP:20260425T193047
CREATED:20210817T120517Z
LAST-MODIFIED:20211019T085651Z
UID:4748-1637434800-1637445600@mottramstandrewpc.org.uk
SUMMARY:Teenage Cancer Trust Quiz Night
DESCRIPTION:Teenage Cancer Trust Quiz Night Poster A4 0117840
URL:https://mottramstandrewpc.org.uk/event/teenage-cancer-trust-quiz-night/
ATTACH;FMTTYPE=image/jpeg:https://mottramstandrewpc.org.uk/wp-content/uploads/2021/08/2021-Teenage-Cancer-Trust-Quiz-Night-Poster-A4-01-scaled.jpg
END:VEVENT
BEGIN:VEVENT
DTSTART;TZID=Europe/London:20211106T191500
DTEND;TZID=Europe/London:20211106T191500
DTSTAMP:20260425T193047
CREATED:20211019T090343Z
LAST-MODIFIED:20211019T090343Z
UID:5084-1636226100-1636226100@mottramstandrewpc.org.uk
SUMMARY:Music at Mottram- Gary Stewart's Graceland
DESCRIPTION:
URL:https://mottramstandrewpc.org.uk/event/music-at-mottram-gary-stewarts-graceland/
LOCATION:Mottram St. Andrew Village Hall
ATTACH;FMTTYPE=image/jpeg:https://mottramstandrewpc.org.uk/wp-content/uploads/2021/10/0001-scaled.jpg
END:VEVENT
BEGIN:VEVENT
DTSTART;TZID=Europe/London:20211105T173000
DTEND;TZID=Europe/London:20211105T173000
DTSTAMP:20260425T193047
CREATED:20211019T085826Z
LAST-MODIFIED:20211019T085826Z
UID:5075-1636133400-1636133400@mottramstandrewpc.org.uk
SUMMARY:Bonfire Night
DESCRIPTION:
URL:https://mottramstandrewpc.org.uk/event/bonfire-night/
END:VEVENT
BEGIN:VEVENT
DTSTART;TZID=Europe/London:20211023T191500
DTEND;TZID=Europe/London:20211023T191500
DTSTAMP:20260425T193047
CREATED:20211019T090240Z
LAST-MODIFIED:20211019T090240Z
UID:5079-1635016500-1635016500@mottramstandrewpc.org.uk
SUMMARY:Music at Mottram- Bob Fox and Billy Mitchell
DESCRIPTION:
URL:https://mottramstandrewpc.org.uk/event/music-at-mottram-bob-fox-and-billy-mitchell/
LOCATION:Mottram St. Andrew Village Hall
ATTACH;FMTTYPE=image/jpeg:https://mottramstandrewpc.org.uk/wp-content/uploads/2021/10/0001-scaled.jpg
END:VEVENT
BEGIN:VEVENT
DTSTART;TZID=Europe/London:20201116T183000
DTEND;TZID=Europe/London:20201116T183000
DTSTAMP:20260425T193047
CREATED:20201130T171556Z
LAST-MODIFIED:20201130T171556Z
UID:3063-1605551400-1605551400@mottramstandrewpc.org.uk
SUMMARY:Parish Council Meeting
DESCRIPTION:This meeting will be held online\, via Zoom. Members of the public are welcome to attend – please see the agenda for details.
URL:https://mottramstandrewpc.org.uk/event/parish-council-meeting-2/
LOCATION:Online
CATEGORIES:Parish Council Meetings
END:VEVENT
BEGIN:VEVENT
DTSTART;TZID=Europe/London:20201012T130000
DTEND;TZID=Europe/London:20201012T150000
DTSTAMP:20260425T193047
CREATED:20200930T085924Z
LAST-MODIFIED:20200930T085924Z
UID:2467-1602507600-1602514800@mottramstandrewpc.org.uk
SUMMARY:Area Highways Group Meeting
DESCRIPTION:MSA PC represented by Cllr A Levis and Cllr D Walker
URL:https://mottramstandrewpc.org.uk/event/area-highways-group-meeting/
LOCATION:Online
CATEGORIES:Cheshire East Meetings
END:VEVENT
BEGIN:VEVENT
DTSTART;TZID=Europe/London:20200706T183000
DTEND;TZID=Europe/London:20200706T183000
DTSTAMP:20260425T193047
CREATED:20200630T224713Z
LAST-MODIFIED:20200630T224713Z
UID:2372-1594060200-1594060200@mottramstandrewpc.org.uk
SUMMARY:Parish Council Meeting
DESCRIPTION:This meeting will be held online\, via Zoom. Members of the public are welcome to attend – please see the agenda for details.
URL:https://mottramstandrewpc.org.uk/event/parish-council-meeting/
LOCATION:Online
CATEGORIES:Parish Council Meetings
END:VEVENT
END:VCALENDAR